BEGIN:VCALENDAR
VERSION:2.0
METHOD:PUBLISH
X-WR-CALNAME:VFEK |  június 16 2011- június 16 2011
PRODID:-//strange bird labs//Drupal iCal API//EN
BEGIN:VEVENT
DTSTAMP;VALUE=DATE-TIME:20260420T035845Z
DTSTART;VALUE=DATE-TIME:20110601T150000Z
DTEND;VALUE=DATE-TIME:20110702T120000Z
UID:http://portal.vfmk.hu/0111_20110531_3
URL;VALUE=URI:http://portal.vfmk.hu/0111_20110531_3
SUMMARY:Kasza Soma kiállítása
DESCRIPTION:<p class=\\"rtejustify\\"><span style=\\"font-size\: small\; \\"><span style=\\"font-family\: Verdana\; \\">&nbsp\;<span style=\\"font-size\: medium\; \\"><strong>Kasza Soma</strong></span> ki&aacute\;ll&iacute\;t&aacute\;s-megnyit&oacute\;ja 2011. <strong>j&uacute\;nius 1</strong>-j&eacute\;n <strong>16.00</strong> &oacute\;rakor lesz az int&eacute\;zm&eacute\;ny <em><strong>Műv&eacute\;szeti Szalon</strong></em>j&aacute\;ban.</span></span></p>
 <p class=\\"rtecenter\\"><span style=\\"font-size\: small\; \\"><span style=\\"font-family\: Verdana\; \\">A t&aacute\;rlatot megnyitja\: <strong>Verebes Gy&ouml\;rgy</strong> festő- &eacute\;s grafikusműv&eacute\;sz\, a Szolnoki Műv&eacute\;sztelep vezetője<br />
 K&ouml\;zreműk&ouml\;dik\: <strong>Varga Erik</strong> k&eacute\;pzőműv&eacute\;sz<br />
 basszusgit&aacute\;r\, performance</span></span></p>
 <p class=\\"rtecenter\\"><span style=\\"font-size\: small\; \\"><span style=\\"font-family\: Verdana\; \\">A t&aacute\;rlat 2011. j&uacute\;lius 2-ig tekinthető meg a k&ouml\;nyvt&aacute\;r nyitva tart&aacute\;si idej&eacute\;ben.</span></span></p>
END:VEVENT
END:VCALENDAR
